BEGIN:VCALENDAR
VERSION:2.0
PRODID:-//Eclectic Magick - ECPv6.15.14//NONSGML v1.0//EN
CALSCALE:GREGORIAN
METHOD:PUBLISH
X-WR-CALNAME:Eclectic Magick
X-ORIGINAL-URL:https://www.eclectic-magick.com
X-WR-CALDESC:Events for Eclectic Magick
REFRESH-INTERVAL;VALUE=DURATION:PT1H
X-Robots-Tag:noindex
X-PUBLISHED-TTL:PT1H
BEGIN:VTIMEZONE
TZID:UTC
BEGIN:STANDARD
TZOFFSETFROM:+0000
TZOFFSETTO:+0000
TZNAME:UTC
DTSTART:20240101T000000
END:STANDARD
END:VTIMEZONE
BEGIN:VTIMEZONE
TZID:America/New_York
BEGIN:DAYLIGHT
TZOFFSETFROM:-0500
TZOFFSETTO:-0400
TZNAME:EDT
DTSTART:20250309T070000
END:DAYLIGHT
BEGIN:STANDARD
TZOFFSETFROM:-0400
TZOFFSETTO:-0500
TZNAME:EST
DTSTART:20251102T060000
END:STANDARD
BEGIN:DAYLIGHT
TZOFFSETFROM:-0500
TZOFFSETTO:-0400
TZNAME:EDT
DTSTART:20260308T070000
END:DAYLIGHT
BEGIN:STANDARD
TZOFFSETFROM:-0400
TZOFFSETTO:-0500
TZNAME:EST
DTSTART:20261101T060000
END:STANDARD
BEGIN:DAYLIGHT
TZOFFSETFROM:-0500
TZOFFSETTO:-0400
TZNAME:EDT
DTSTART:20270314T070000
END:DAYLIGHT
BEGIN:STANDARD
TZOFFSETFROM:-0400
TZOFFSETTO:-0500
TZNAME:EST
DTSTART:20271107T060000
END:STANDARD
END:VTIMEZONE
BEGIN:VEVENT
DTSTART;TZID=UTC:20250724T203000
DTEND;TZID=UTC:20250724T213000
DTSTAMP:20260424T030509
CREATED:20250714T001905Z
LAST-MODIFIED:20250714T002603Z
UID:1377-1753389000-1753392600@www.eclectic-magick.com
SUMMARY:Psychic & Intuitive Development*Different Topics Every Time!
DESCRIPTION:Ongoing. For all levels. A unique opportunity in a small group setting to activate\, develop and strengthen your intuitive\, psychic and multidimensional skills w/ Katibe\, psychic Soul Evolution Coach & Reader (channeled by direct voice\, Tarot & oracle cards). Different topics every time. \nZoom link Meetup messaged to attendees who advance prepaid by the RSVP deadline 15- 30 mins before our meet up start time \nCan’t make this meetup? No worries. Zoom private sessions are available on this topic and other soul coaching topics and for readings. They are easy to book on website calendar to help you evolve to your best life at [EvolvingSoulCenter.com](https://evolvingsoulcenter.com/)! \nLearn more about Katibe here and below. \nThis is perfect if you are just learning\, are an energetic healer\, a reader or want to connect with your loved ones in spirit\, your Highest Self\, angels or etheric guides or simply want to use these innate skills to make better life decisions and navigate your life with flow. This is a basic building block for all other psychic studies~card readings\, mediumship\, channeling\, energy healing\, etc.. \nHave your journal ready to take important notes as scientific studies have shown notetaking aids in memory retention and water to stay hydrated! We will meet in a high vibrational space. \nFormat: \n\nIntro & invocation to invite your Highest Self\, your Guardian Angels and your high vibe Spiritual Team w/intention setting\nDiscussion Topic from below w/slides\nPsychic Exercise (s)\nQ&A\n\nFacebook Discussion Resource: Album on Psychic & Intuitive Development\nMore Resources:\n7 Ways to Connect to Your Intuition by Katibe\nChanneled Chakra & Auric Meditation Youtube by Katibe\nSpirit Science Article on the 4 Common Psychic Senses \nTopics to for intuition and psychic senses may include: \n\nUnderstanding your 6 clairs* Your energetic anatomy (Aura * Chakras) * Releasing energetic blocks to open your psychic connectivity * Psychic protection * Types of Etheric Guides you can connect with * Raising your inner vibration for receptivity* Increasing your life chi to easily connect * Divination Tools* Ego\, Transcending it For Psychic Receptivity* Energetic Tools * Crystal energy * Color energy * Dream Analysis* Energetic Chord Cutting * Epigenetics * Karmic energy * Reiki energy * Sound Energy * Symbol energy * Thought energy * Word energy\, etc….\n\n*****\nMeet Katibe!\nPsychic Evolution Coach * Psychic Reader (channeled by direct voice\, Tarot & oracle cards) *Advanced Channeler of Light Beings\n*Easy to book private Zoom sessions for soul coaching & readings on website calendar to help you evolve to your best life at [EvolvingSoulCenter.com](https://evolvingsoulcenter.com/)!\n* Certified Spiritual Coach\n* Soul Wisdom from Beyond \n\nReader*Reiki Teacher/Master*Workshop Leader\nLike Evolving Soul Center FB page\nFollow Katibe on Facebook\nSubscribe to email list at & receive a free gift\nPast Host of the Soul Evolution Show * Listen to episodes 24/7 for free\nAuthor of the free eBook “Aristotle’s Teachings for the New Age\, a Series of Channelings” FREE download in many reading formats\nSubscribe to the Evolving Soul Center Youtube Channel\nJoin [EvolvingSoulCenter.com Forum on Facebook](https://www.facebook.com/groups/397444337057230) and receive free resources\n\n***\nZoom Directions: \n\nSign in timely. Katibe will wait only 15 minutes online past the Meetup start time for prepaid people to sign in.\nPlease sign in 5-10 minutes before start time to ensure Zoom link is working.\nChoose to be interactive or not.\nPlease use video so we can see each other (not\nBonus: Meetup may be recorded w/ summary stated w/attendees.\n\n****\nNote: \n\nThis meetup is promoted in other ways so the RSVP count here is not accurate.\nPrepaid RSVP by the RSVP deadline is required through this meetup.\nPlease RSVP responsibly.\nNo refunds unless Meetup is canceled or rescheduled. Non-transferable.
URL:https://www.eclectic-magick.com/event/psychic-intuitive-developmentdifferent-topics-every-time/
ATTACH;FMTTYPE=image/png:https://www.eclectic-magick.com/wp-content/uploads/2025/07/highres_519119674.png
END:VEVENT
BEGIN:VEVENT
DTSTART;TZID=America/New_York:20260429T090000
DTEND;TZID=America/New_York:20260503T130000
DTSTAMP:20260424T030509
CREATED:20260117T114138Z
LAST-MODIFIED:20260118T174741Z
UID:1554-1777453200-1777813200@www.eclectic-magick.com
SUMMARY:FLORIDA PAGAN GATHERING - BELTAINE 2026
DESCRIPTION:Enjoy 5 days and 4 nights of camping\, drumming\, workshops\, music and events. \nFor the last 31 years the Florida Pagan Gathering has hosted Pagans\, Wiccans\, Witches\, Heathens and Druids from all over the world! FPG is a family friendly and inclusive event open to all people of an open mind and Pagan-friendly heart and is hosted at Camp Kiwanis in Silver Springs\, Florida \nCost:\n$105/Adults\n$35/Kids 5-17\nKids under 5 are free\nWeekend only: $75\nDay passes: $35 \nCABINS: Cabin bunks are available for $60 for the entire event \nVENDOR ADMISSION: $130- includes 1 event admission and a 10×10 vending space. Additional spaces may be purchased for $25 each. \nPAYMENT PLAN IS AVAILABLE! Please email Bobbi Jo at register@flapagan.org for details. \nMEAL PLAN AVAILABLE: Visit https://fpgmealplan.eventbee.com for details. \nThe cost of FPG includes tent camping\, all events\, workshops\, concerts and nightly drumming at our beautiful fire circle. RVs and Campers are welcome at no additional cost \n**FPG Beltaine 2026** \nHeadliners: Jason Mankey\, Heron Michelle\, H. Byron Ballard\, Rick deYampert  \nMusical Guest: Blackwillow Starling & Brian Henke \nEvents and Activities at FPG include: \n*Workshops hosted by our Headliners and local Pagan teachers. \n*Wednesday Evening Stone Grill Pot Luck \n*Thursday Night Meet & Greet – \n*Friday Night Concert \n* Thursday & Friday Evening Sweat Lodge \n*Drum Circle and Dancing at our Fire Circle on Thursday\, Friday and Saturday night. \n*Main Ritual Saturday Night \n*Shop for Pagan crafts\, wares\, gifts and books on Vendor’s Row \n*Morning Healing Circles \n*Kid’s Realm with workshops and crafts \n**Don’t forget to bring your bathing suit to swim in our beautiful lake** \n*The entrance fees for FPG covers admission for all 5 days of the event\, tent camping and all events and workshops. RVs\, Pop Ups and Campers are welcome. Cabin bunks are available. \nGET A DISCOUNT ON YOUR ADMISSION BY WORKING ON STAFF! WE HAVE JOBS FOR PEOPLE OF ALL ABILITIES. PLEASE EMAIL JENNIE0280@YAHOO.COM TO SIGN UP FOR A STAFF POSITION.
URL:https://www.eclectic-magick.com/event/florida-pagan-gathering-beltaine-2026/
ATTACH;FMTTYPE=image/png:https://www.eclectic-magick.com/wp-content/uploads/2026/01/Screenshot-2026-01-18-073642.png
END:VEVENT
END:VCALENDAR