BEGIN:VCALENDAR
VERSION:2.0
PRODID:-//Eclectic Magick - ECPv6.15.14//NONSGML v1.0//EN
CALSCALE:GREGORIAN
METHOD:PUBLISH
X-WR-CALNAME:Eclectic Magick
X-ORIGINAL-URL:https://www.eclectic-magick.com
X-WR-CALDESC:Events for Eclectic Magick
REFRESH-INTERVAL;VALUE=DURATION:PT1H
X-Robots-Tag:noindex
X-PUBLISHED-TTL:PT1H
BEGIN:VTIMEZONE
TZID:UTC
BEGIN:STANDARD
TZOFFSETFROM:+0000
TZOFFSETTO:+0000
TZNAME:UTC
DTSTART:20230101T000000
END:STANDARD
END:VTIMEZONE
BEGIN:VTIMEZONE
TZID:America/Halifax
BEGIN:DAYLIGHT
TZOFFSETFROM:-0400
TZOFFSETTO:-0300
TZNAME:ADT
DTSTART:20230312T060000
END:DAYLIGHT
BEGIN:STANDARD
TZOFFSETFROM:-0300
TZOFFSETTO:-0400
TZNAME:AST
DTSTART:20231105T050000
END:STANDARD
BEGIN:DAYLIGHT
TZOFFSETFROM:-0400
TZOFFSETTO:-0300
TZNAME:ADT
DTSTART:20240310T060000
END:DAYLIGHT
BEGIN:STANDARD
TZOFFSETFROM:-0300
TZOFFSETTO:-0400
TZNAME:AST
DTSTART:20241103T050000
END:STANDARD
BEGIN:DAYLIGHT
TZOFFSETFROM:-0400
TZOFFSETTO:-0300
TZNAME:ADT
DTSTART:20250309T060000
END:DAYLIGHT
BEGIN:STANDARD
TZOFFSETFROM:-0300
TZOFFSETTO:-0400
TZNAME:AST
DTSTART:20251102T050000
END:STANDARD
END:VTIMEZONE
BEGIN:VEVENT
DTSTART;TZID=UTC:20250724T203000
DTEND;TZID=UTC:20250724T213000
DTSTAMP:20260423T171813
CREATED:20250714T001905Z
LAST-MODIFIED:20250714T002603Z
UID:1377-1753389000-1753392600@www.eclectic-magick.com
SUMMARY:Psychic & Intuitive Development*Different Topics Every Time!
DESCRIPTION:Ongoing. For all levels. A unique opportunity in a small group setting to activate\, develop and strengthen your intuitive\, psychic and multidimensional skills w/ Katibe\, psychic Soul Evolution Coach & Reader (channeled by direct voice\, Tarot & oracle cards). Different topics every time. \nZoom link Meetup messaged to attendees who advance prepaid by the RSVP deadline 15- 30 mins before our meet up start time \nCan’t make this meetup? No worries. Zoom private sessions are available on this topic and other soul coaching topics and for readings. They are easy to book on website calendar to help you evolve to your best life at [EvolvingSoulCenter.com](https://evolvingsoulcenter.com/)! \nLearn more about Katibe here and below. \nThis is perfect if you are just learning\, are an energetic healer\, a reader or want to connect with your loved ones in spirit\, your Highest Self\, angels or etheric guides or simply want to use these innate skills to make better life decisions and navigate your life with flow. This is a basic building block for all other psychic studies~card readings\, mediumship\, channeling\, energy healing\, etc.. \nHave your journal ready to take important notes as scientific studies have shown notetaking aids in memory retention and water to stay hydrated! We will meet in a high vibrational space. \nFormat: \n\nIntro & invocation to invite your Highest Self\, your Guardian Angels and your high vibe Spiritual Team w/intention setting\nDiscussion Topic from below w/slides\nPsychic Exercise (s)\nQ&A\n\nFacebook Discussion Resource: Album on Psychic & Intuitive Development\nMore Resources:\n7 Ways to Connect to Your Intuition by Katibe\nChanneled Chakra & Auric Meditation Youtube by Katibe\nSpirit Science Article on the 4 Common Psychic Senses \nTopics to for intuition and psychic senses may include: \n\nUnderstanding your 6 clairs* Your energetic anatomy (Aura * Chakras) * Releasing energetic blocks to open your psychic connectivity * Psychic protection * Types of Etheric Guides you can connect with * Raising your inner vibration for receptivity* Increasing your life chi to easily connect * Divination Tools* Ego\, Transcending it For Psychic Receptivity* Energetic Tools * Crystal energy * Color energy * Dream Analysis* Energetic Chord Cutting * Epigenetics * Karmic energy * Reiki energy * Sound Energy * Symbol energy * Thought energy * Word energy\, etc….\n\n*****\nMeet Katibe!\nPsychic Evolution Coach * Psychic Reader (channeled by direct voice\, Tarot & oracle cards) *Advanced Channeler of Light Beings\n*Easy to book private Zoom sessions for soul coaching & readings on website calendar to help you evolve to your best life at [EvolvingSoulCenter.com](https://evolvingsoulcenter.com/)!\n* Certified Spiritual Coach\n* Soul Wisdom from Beyond \n\nReader*Reiki Teacher/Master*Workshop Leader\nLike Evolving Soul Center FB page\nFollow Katibe on Facebook\nSubscribe to email list at & receive a free gift\nPast Host of the Soul Evolution Show * Listen to episodes 24/7 for free\nAuthor of the free eBook “Aristotle’s Teachings for the New Age\, a Series of Channelings” FREE download in many reading formats\nSubscribe to the Evolving Soul Center Youtube Channel\nJoin [EvolvingSoulCenter.com Forum on Facebook](https://www.facebook.com/groups/397444337057230) and receive free resources\n\n***\nZoom Directions: \n\nSign in timely. Katibe will wait only 15 minutes online past the Meetup start time for prepaid people to sign in.\nPlease sign in 5-10 minutes before start time to ensure Zoom link is working.\nChoose to be interactive or not.\nPlease use video so we can see each other (not\nBonus: Meetup may be recorded w/ summary stated w/attendees.\n\n****\nNote: \n\nThis meetup is promoted in other ways so the RSVP count here is not accurate.\nPrepaid RSVP by the RSVP deadline is required through this meetup.\nPlease RSVP responsibly.\nNo refunds unless Meetup is canceled or rescheduled. Non-transferable.
URL:https://www.eclectic-magick.com/event/psychic-intuitive-developmentdifferent-topics-every-time/
ATTACH;FMTTYPE=image/png:https://www.eclectic-magick.com/wp-content/uploads/2025/07/highres_519119674.png
END:VEVENT
BEGIN:VEVENT
DTSTART;TZID=UTC:20250430T090000
DTEND;TZID=UTC:20250504T130000
DTSTAMP:20260423T171813
CREATED:20250426T164236Z
LAST-MODIFIED:20250426T164236Z
UID:1156-1746003600-1746363600@www.eclectic-magick.com
SUMMARY:FLORIDA PAGAN GATHERING BELTAINE 2025
DESCRIPTION:Enjoy 5 days and 4 nights of camping\, drumming\, workshops\, music and events. \nFor the last 30 years the Florida Pagan Gathering has hosted Pagans\, Wiccans\, Witches\, Heathens and Druids from all over the world! FPG is a family friendly and inclusive event open to all people of an open mind and Pagan-friendly heart and is hosted at Camp Kiwanis in Silver Springs\, Florida \nCost:\n$105/Adults *Early Bird Price until Dec 31st*\n$35/Kids 5-17\nKids under 5 are free\nWeekend only: $75\nDay passes: $35 \nCABINS: Cabin bunks are available for $60 for the entire event \nVENDOR ADMISSION: $130 *Early Bird Price*- includes 1 event admission and a 10×10 vending space. Additional spaces may be purchased for $25 each. \nPAYMENT PLAN IS AVAILABLE! Please email Bobbi Jo at register@flapagan.org for details. \nMEAL PLAN AVAILABLE: Visit https://fpgmealplan.eventbee.com for details. \nThe cost of FPG includes tent camping\, all events\, workshops\, concerts and nightly drumming at our beautiful fire circle. RVs and Campers are welcome at no additional cost \n**FPG Beltaine 2025** \nEvents and Activities at FPG include: \n*Workshops hosted by our Headliners and local Pagan teachers. \n*Wednesday Evening Stone Grill Pot Luck \n*Thursday Night Meet & Greet \n*Friday Night Concert \n* Thursday & Friday Evening Sweat Lodge \n*Drum Circle and Dancing at our Fire Circle on Thursday\, Friday and Saturday night. \n*Main Ritual Saturday Night \n*Shop for Pagan crafts\, wares\, gifts and books on Vendor’s Row \n*Morning Healing Circles \n*Kid’s Realm with workshops and crafts \n**Don’t forget to bring your bathing suit to swim in our beautiful lake** \n*The entrance fees for FPG covers admission for all 5 days of the event\, tent camping and all events and workshops. RVs\, Pop Ups and Campers are welcome. Cabin bunks are available.
URL:https://www.eclectic-magick.com/event/florida-pagan-gathering-beltaine-2025/
ATTACH;FMTTYPE=image/png:https://www.eclectic-magick.com/wp-content/uploads/2025/04/FPG.png
END:VEVENT
BEGIN:VEVENT
DTSTART;TZID=UTC:20240623T191500
DTEND;TZID=UTC:20240623T203000
DTSTAMP:20260423T171813
CREATED:20240612T020629Z
LAST-MODIFIED:20240612T020629Z
UID:831-1719170100-1719174600@www.eclectic-magick.com
SUMMARY:Sound Healing Meditation with Siren
DESCRIPTION:Sound Healing Meditation with Reiki Guided by Siren 1 Hour Sound Healing Meditation + Reiki Please arrive before 7:15pm\, we recommend you bring something comfortable to sit/lay on (meditation pillow\, mat\, blanket\, etc.) Chairs will be provided to those who prefer.
URL:https://www.eclectic-magick.com/event/sound-healing-meditation-with-siren/
ATTACH;FMTTYPE=image/jpeg:https://www.eclectic-magick.com/wp-content/uploads/2024/06/Image_20240606_0003.jpg
END:VEVENT
BEGIN:VEVENT
DTSTART;TZID=America/Halifax:20240621T180000
DTEND;TZID=America/Halifax:20240621T210000
DTSTAMP:20260423T171813
CREATED:20240612T015621Z
LAST-MODIFIED:20240612T015621Z
UID:823-1718992800-1719003600@www.eclectic-magick.com
SUMMARY:Moonlight Market
DESCRIPTION:Join us for our night market!\n \n\nThis is a very special curated event supporting local vendors and readers.\n\n \n\nAn intuitive night market filled with multiple readers offering everything from Tarot\, Oracle\, Palmistry\, Astrology and plenty more readings.\n\n \n\nLocal artisan handcrafted jewelry customized to your liking!\n\n \n\nCome hungry as we will also have fresh made pizza\, brownies and a variety of desserts by local businesses.\n\n \n\nWe will also have store wide sales only offered at the duration of the event\, as well as a raffle prize giveaway.\n\n \n\nThis is an event you don’t want to miss!\n\n 
URL:https://www.eclectic-magick.com/event/moonlight-market/
LOCATION:Qunubus\, 12395-2 Pembroke Rd\, Pembroke Pines\, FL\, 33027\, United States
ATTACH;FMTTYPE=image/jpeg:https://www.eclectic-magick.com/wp-content/uploads/2024/06/Image_20240606_0005.jpg
END:VEVENT
BEGIN:VEVENT
DTSTART;TZID=UTC:20240616T130000
DTEND;TZID=UTC:20240616T170000
DTSTAMP:20260423T171813
CREATED:20240612T020434Z
LAST-MODIFIED:20240612T020434Z
UID:829-1718542800-1718557200@www.eclectic-magick.com
SUMMARY:Aura Photo Readings
DESCRIPTION:Must book in advance!
URL:https://www.eclectic-magick.com/event/aura-photo-readings/
LOCATION:Qunubus\, 12395-2 Pembroke Rd\, Pembroke Pines\, FL\, 33027\, United States
ATTACH;FMTTYPE=image/jpeg:https://www.eclectic-magick.com/wp-content/uploads/2024/06/Image_20240606_0004.jpg
END:VEVENT
BEGIN:VEVENT
DTSTART;TZID=UTC:20240609T191500
DTEND;TZID=UTC:20240609T203000
DTSTAMP:20260423T171813
CREATED:20240612T020150Z
LAST-MODIFIED:20240612T020150Z
UID:827-1717960500-1717965000@www.eclectic-magick.com
SUMMARY:Intro to Astrology Class
DESCRIPTION:Intro To Astrology II: Houses Guided by Serena @Angelfishastro 1 Hour informational class on Astrology and the meaning/significance of Houses.
URL:https://www.eclectic-magick.com/event/intro-to-astrology-class/
LOCATION:Qunubus\, 12395-2 Pembroke Rd\, Pembroke Pines\, FL\, 33027\, United States
ATTACH;FMTTYPE=image/jpeg:https://www.eclectic-magick.com/wp-content/uploads/2024/06/Image_20240606_0002.jpg
END:VEVENT
BEGIN:VEVENT
DTSTART;TZID=UTC:20240504T160000
DTEND;TZID=UTC:20240504T170000
DTSTAMP:20260423T171813
CREATED:20240612T021222Z
LAST-MODIFIED:20240612T021222Z
UID:833-1714838400-1714842000@www.eclectic-magick.com
SUMMARY:Free Wicca 101 Classes
DESCRIPTION:We are offering Free Wicca 101 classes for anyone who wants to learn more about Wicca and witchcraft. Bring an open\, inquisitive mind and join the fun! The topics will change month to month all based on Wicca practice. We will announce the topic before each class. We hope you can join us!
URL:https://www.eclectic-magick.com/event/free-wicca-101-classes/
LOCATION:Free Wicca 101 Classes\, 165 E Main St\, Bartow\, 33830\, United States
ATTACH;FMTTYPE=image/webp:https://www.eclectic-magick.com/wp-content/uploads/2024/04/9f96c9_39a486e0c38246be9054fc7a30c31568mv2.webp
END:VEVENT
BEGIN:VEVENT
DTSTART;TZID=UTC:20240504T103000
DTEND;TZID=UTC:20240504T143000
DTSTAMP:20260423T171813
CREATED:20240612T022307Z
LAST-MODIFIED:20240612T022307Z
UID:845-1714818600-1714833000@www.eclectic-magick.com
SUMMARY:Pagan Jubilee: Beltane May 4th\, 2024 - Make a drum with Wayne Manthey
DESCRIPTION:Join us for the Pagan Jubilee: Beltane on May 4th\, 2024\, and get your creative groove on as you make a drum with the legendary Wayne Manthey\n\n\nRefund Policy\n \n\nNo Refunds\n\n \nAbout this event\n \nCalling all fellow seekers of the mystical and magical!\n \n\nSacred Bridges CUUPS extends a warm invitation to our Pagan Jubilee on May 4th\, 2024\, where the energies of Beltane will come alive in the most enchanting way. We are absolutely thrilled to announce our special guest for this event: Wayne Manthey Drum Maker! Wayne is a gifted artisan with a deep connection to the ancient rhythms of nature.\n\n \n\nAt 10:30am\, he will lead a workshop that will allow you to create your very own deer skin drum. Imagine crafting an instrument that will resonate with the heartbeat of the Earth itself\, a tool for your spiritual journey unlike any other. This is your chance to do just that.\n\n \n\nJoin us for a day of connection\, celebration\, and creation as we honor the turning of the Wheel of the Year. The workshop with Wayne promises to be a transformative experience\, uniting the sacred and the creative in a way that only Beltane can inspire. Mark your calendars for May 4th\, 2024\, and be part of this unique opportunity to infuse your Beltane celebration with the rhythm of your very own handmade drum.\n\n \n\n13 inch deer skin drum: $155\n\n \n\n16 inch deer skin drum: $180\n\n \n\nTickets are non-refundable. If you decide you can not make the event you may transfer/sell your ticket to another individual. Please contact us to let us know who will be receiving your ticket.\n\n \n\nDrums teach responsibility. Making them is an honor\, a meditation\, and continues to reveal lessons for me as well.\n\n \n\nMinimum 10 people max 15. Drum making starts at 10:30am-2:30pm\n\n \n\nThe outline for the workshop is simple. It will take about 4 hours to make your drum. Enrollment is limited to a maximum of 15 drums.\n\n \n\nYou show up with a desire to have a drum of your own\, or\, maybe it is just curiosity. That’s all you need\, really!\n\n \n\nWe start with a pre-constructed frame\, deer hides\, and a bucket of walnut stain. First\, you choose your frame\, lay out the hides\, and take a few moments of reflection to connect to this medium. After cutting out the drum circles\, I take you\, one step at a time\, through the rest of the process. The looks on the faces when the drums are completed is where it’s at for me. There are no words that can completely describe what it feels like to make your own drum. All you need is to be there and do it!\n\n \nArtist Statement:\n \n\nMaking drums began as a curiosity. I was intrigued by the thought that sound could be created with animal skins. Waaayyy before you could YouTube everything\, (30+ years) I set out to find out how to get that sound. Making drums from one type of hide then another\, gave me insight into just how to actually relate to the skins in creating my drums. In turn\, this “research” turned into meditation and I found a way to connect with this fantastic medium.\n\n \n\nAs I started making drums\, I was especially interested in the vibration of rawhide and the sound it makes. Once I was able to consistently achieve the quality sound and feeling I was looking for\, assigning antlers\, wood\, stone\, and lacing variations made the drums more decorative and visually pleasing.\n\n \n\nThe healing properties of a drum are found in the elements that make it: wood and animal hide. Making personal frame drums is a journey that is individually and spiritually meaningful. Teaching drum-making classes involves storytelling and introspection. The drum symbolizes the heartbeat of life\, the heartbeat of the community. It is not simply an art form\, but a tool for cleansing\, centering and focusing one’s intentions for health and happiness.
URL:https://www.eclectic-magick.com/event/pagan-jubilee-beltane-may-4th-2024-make-a-drum-with-wayne-manthey/
LOCATION:First Unitarian Church\, 1800 Bell Avenue\, Des Moines\, IA\, 50315\, United States
ATTACH;FMTTYPE=image/jpeg:https://www.eclectic-magick.com/wp-content/uploads/2024/04/https___cdn.evbuc_.com_images_679357449_628146458993_1_original.jpg
END:VEVENT
BEGIN:VEVENT
DTSTART;TZID=UTC:20240502T193000
DTEND;TZID=UTC:20240502T203000
DTSTAMP:20260423T171813
CREATED:20240612T021741Z
LAST-MODIFIED:20240612T021754Z
UID:838-1714678200-1714681800@www.eclectic-magick.com
SUMMARY:Beltaine Stories and Ritual Preparation
DESCRIPTION:Join us as we hear stories of Beltaine and prepare for our ritual on Saturday. Bring a healthy snack to share \n\n\n\nWe provide coffee and Tea Love Offerings accepted – We always have a basket to collect non perishable food for https://www.lifenet4families.org/ We also collect Towels\, blankets and dog toys for Broward County Animal Care. Moonpath CUUPs is the South Florida Eclectic Pagan group affiliated with the Unitarian Universalist Congregation of Fort Lauderdale. Moonpath CUUPs meeting location: Unitarian Universalist Congregation of Fort Lauderdale 2810 Griffin Rd Fort Lauderdale\, FL 33312 Building behind the Great Oak Tree! Door opens at 7pm\, come to socialize before we start the meeting at 7:30
URL:https://www.eclectic-magick.com/event/beltaine-stories-and-ritual-preparation/
LOCATION:Unitarian Universalist Congregation of Fort Lauderdale\, 2810 Griffin Rd\, Fort Lauderdale\, FL\, 33312\, United States
ATTACH;FMTTYPE=image/webp:https://www.eclectic-magick.com/wp-content/uploads/2024/04/600_520548543.webp
END:VEVENT
END:VCALENDAR